BEGIN:VCALENDAR
VERSION:2.0
PRODID:-//ChamberMaster//Event Calendar 2.0//EN
METHOD:PUBLISH
X-PUBLISHED-TTL:P3D
REFRESH-INTERVAL:P3D
CALSCALE:GREGORIAN
BEGIN:VEVENT
DTSTART;VALUE=DATE:20260501
DTEND;VALUE=DATE:20260503
TRANSP:TRANSPARENT
X-MICROSOFT-CDO-ALLDAYEVENT:TRUE
SUMMARY:HillTop Garden's Open House
DESCRIPTION:HillTop Garden's OPEN HOUSE\n\nBe sure to mark this down! Lots of fun things going on all weekend! Coffee Trucks\, Food Trucks\, Sales\, Bev's Famous Cookies\, Give Aways\, and Flowers! What's not to love! Bring your friends and family and make a day of it!
X-ALT-DESC;FMTTYPE=text/html:<span style="font-size:20px\;"><strong>HillTop Garden&#39\;s OPEN HOUSE</strong></span><br />\n<span style="font-size:18px\;"><span style="caret-color: rgb(8\, 8\, 9)\; color: rgb(8\, 8\, 9)\; font-family: system-ui\, -apple-system\, BlinkMacSystemFont\, &quot\;.SFNSText-Regular&quot\;\, sans-serif\;">Be sure to mark this down! Lots of fun things going on all weekend! Coffee Trucks\, Food Trucks\, Sales\, Bev&rsquo\;s Famous Cookies\, Give Aways\, and Flowers! What&rsquo\;s not to love! Bring your friends and family and make a day of it!</span></span>
LOCATION:HillTop Garden 704 Arthur Street Scotia\, NE
UID:e.1165.12940
SEQUENCE:3
DTSTAMP:20260422T093232Z
URL:https://chamber.ordnebraska.com/events/details/hilltop-garden-s-open-house-12940
END:VEVENT

END:VCALENDAR
