BEGIN:VCALENDAR
VERSION:2.0
PRODID:-//ChamberMaster//Event Calendar 2.0//EN
METHOD:PUBLISH
X-PUBLISHED-TTL:P3D
REFRESH-INTERVAL:P3D
CALSCALE:GREGORIAN
BEGIN:VEVENT
DTSTART:20151216T000000Z
DTEND:20151216T020000Z
X-MICROSOFT-CDO-ALLDAYEVENT:FALSE
SUMMARY:Heartland Youth Ranch Christmas Open House
DESCRIPTION:Everyone is invited to Heartland Youth Ranch's Christmas Open House Tuesday\, December 15 from 6pm to 8pm. Lots of good food\, live music and crafts for the children. Come and enjoy an old fashioned country Christmas at the Ranch.
X-ALT-DESC;FMTTYPE=text/html:<span style="color: rgb(20\, 24\, 35)\; font-family: helvetica\, arial\, sans-serif\; font-size: 14px\; line-height: 18.76px\;">Everyone is invited to Heartland Youth Ranch&#39\;s Christmas Open House Tuesday\, December 15 from 6pm to 8pm. Lots of good food\, live music and crafts for the children. Come and enjoy an old fashioned country Christmas at the Ranch.</span>
LOCATION:80997 Hwy 11\, North Loup
UID:e.1165.3790
SEQUENCE:3
DTSTAMP:20260422T084944Z
URL:https://chamber.ordnebraska.com/events/details/heartland-youth-ranch-christmas-open-house-12-15-2015-3790
END:VEVENT

END:VCALENDAR
