BEGIN:VCALENDAR
VERSION:2.0
PRODID:-//ChamberMaster//Event Calendar 2.0//EN
METHOD:PUBLISH
X-PUBLISHED-TTL:P3D
REFRESH-INTERVAL:P3D
CALSCALE:GREGORIAN
BEGIN:VEVENT
DTSTART:20111028T210000Z
DTEND:20111029T000000Z
X-MICROSOFT-CDO-ALLDAYEVENT:FALSE
SUMMARY:Halloween "Sweet Treat" Tasting at Incredible Edibles
DESCRIPTION:Visit Incredible Edibles to see and taste what they can do for you to help with your child's class party or for work.  Delivery available in the Ord area.
X-ALT-DESC;FMTTYPE=text/html:Visit Incredible Edibles to see and taste what they can do for you to help with your child&#39\;s class party or for work.&nbsp\; Delivery available in the Ord area. 
LOCATION:100 N. 15th Street\, Ord
UID:e.1165.665
SEQUENCE:3
DTSTAMP:20260423T084507Z
URL:https://chamber.ordnebraska.com/events/details/halloween-sweet-treat-tasting-at-incredible-edibles-10-28-2011-665
END:VEVENT

END:VCALENDAR
