BEGIN:VCALENDAR
VERSION:2.0
PRODID:-//ChamberMaster//Event Calendar 2.0//EN
METHOD:PUBLISH
X-PUBLISHED-TTL:P3D
REFRESH-INTERVAL:P3D
CALSCALE:GREGORIAN
BEGIN:VEVENT
DTSTART:20110922T200000Z
DTEND:20110923T000000Z
X-MICROSOFT-CDO-ALLDAYEVENT:FALSE
SUMMARY:Greg Duryea - Farm Bureau Financial Services Ribbon Cutting & Open House
DESCRIPTION:Please join us for Farm Bureau Financial Services' Open House to meet Greg and his staff.  The ribbon cutting will be at 3:00 pm.  FFA will be serving a meal from 4:00-7:00 pm and KNLV Radio will be broadcasting live.  Heritage Homes and the Farm Bureau Federations will have informational booths available as well.
X-ALT-DESC;FMTTYPE=text/html:Please join us for Farm Bureau Financial Services&#39\; Open House&nbsp\;to meet Greg and his staff.&nbsp\; The ribbon cutting will be at 3:00 pm.&nbsp\; FFA will be serving a meal from 4:00-7:00 pm and KNLV&nbsp\;Radio will be broadcasting live.&nbsp\;&nbsp\;Heritage Homes and the Farm Bureau Federations will have informational booths available as well. &nbsp\;
LOCATION:220 South 14th Street\, Ord
UID:e.1165.458
SEQUENCE:3
DTSTAMP:20260423T114252Z
URL:https://chamber.ordnebraska.com/events/details/greg-duryea-farm-bureau-financial-services-ribbon-cutting-open-house-09-22-2011-458
END:VEVENT

END:VCALENDAR
