BEGIN:VCALENDAR
VERSION:2.0
PRODID:-//ChamberMaster//Event Calendar 2.0//EN
METHOD:PUBLISH
X-PUBLISHED-TTL:P3D
REFRESH-INTERVAL:P3D
CALSCALE:GREGORIAN
BEGIN:VEVENT
DTSTART:20110918T170000Z
DTEND:20110918T210000Z
X-MICROSOFT-CDO-ALLDAYEVENT:FALSE
SUMMARY:Grandview Assisted & Independent Living 10 Year Celebration
DESCRIPTION:Everyone is welcome and encouraged to attend.\n\n\n\n12 p.m.               VFW Flag Raising - Jerry Neeman\n\n12:10 p.m.         Recognition and Tribute to our Service Men\n\n                             & Women \n\n12:20 p.m.        10 years at Grandview overview\n\n1:00 p.m.           Barbecue and Entertainment
X-ALT-DESC;FMTTYPE=text/html:Everyone is welcome and encouraged to attend.<br />\n<br />\n12 p.m.&nbsp\;&nbsp\;&nbsp\;&nbsp\;&nbsp\;&nbsp\;&nbsp\;&nbsp\;&nbsp\;&nbsp\;&nbsp\;&nbsp\;&nbsp\;&nbsp\; VFW Flag Raising - Jerry Neeman<br />\n12:10 p.m.&nbsp\;&nbsp\;&nbsp\;&nbsp\;&nbsp\;&nbsp\;&nbsp\;&nbsp\;&nbsp\;Recognition and Tribute to our Service Men<br />\n&nbsp\;&nbsp\;&nbsp\;&nbsp\;&nbsp\;&nbsp\;&nbsp\;&nbsp\;&nbsp\;&nbsp\;&nbsp\;&nbsp\;&nbsp\;&nbsp\;&nbsp\;&nbsp\;&nbsp\;&nbsp\;&nbsp\;&nbsp\;&nbsp\;&nbsp\;&nbsp\;&nbsp\;&nbsp\;&nbsp\;&nbsp\;&nbsp\; &amp\; Women&nbsp\;<br />\n12:20 p.m.&nbsp\;&nbsp\;&nbsp\;&nbsp\;&nbsp\;&nbsp\;&nbsp\;&nbsp\;10 years at Grandview overview<br />\n1:00 p.m.&nbsp\;&nbsp\;&nbsp\;&nbsp\;&nbsp\;&nbsp\;&nbsp\;&nbsp\;&nbsp\;&nbsp\;&nbsp\;Barbecue and Entertainment
LOCATION:827 North 19th Street
UID:e.1165.511
SEQUENCE:3
DTSTAMP:20260423T113758Z
URL:https://chamber.ordnebraska.com/events/details/grandview-assisted-independent-living-10-year-celebration-09-18-2011-511
END:VEVENT

END:VCALENDAR
