BEGIN:VCALENDAR
VERSION:2.0
PRODID:-//ChamberMaster//Event Calendar 2.0//EN
METHOD:PUBLISH
X-PUBLISHED-TTL:P3D
REFRESH-INTERVAL:P3D
CALSCALE:GREGORIAN
BEGIN:VEVENT
DTSTART:20110527T000000Z
DTEND:20110527T010000Z
X-MICROSOFT-CDO-ALLDAYEVENT:FALSE
SUMMARY:FREE Hotdog Feed
DESCRIPTION:To kick off our ExtraORDinary Days celebration\, Frontier Communications will be hosting a FREE Hot Dog Feed Thursday\, May 26 beginning at 7:00 pm.  Join us at Bussell Park for the start of a great community celebration!
X-ALT-DESC;FMTTYPE=text/html:<p>\n	To kick off our ExtraORDinary Days celebration\, Frontier Communications will be hosting a FREE Hot Dog Feed Thursday\, May 26 beginning at 7:00 pm.&nbsp\; Join us at Bussell Park for the start of a great community celebration!</p>\n
LOCATION:Bussell Park\, Ord
UID:e.1165.28
SEQUENCE:3
DTSTAMP:20260424T143627Z
URL:https://chamber.ordnebraska.com/events/details/free-hotdog-feed-05-26-2011-28
END:VEVENT

END:VCALENDAR
