BEGIN:VCALENDAR
VERSION:2.0
PRODID:-//ChamberMaster//Event Calendar 2.0//EN
METHOD:PUBLISH
X-PUBLISHED-TTL:P3D
REFRESH-INTERVAL:P3D
CALSCALE:GREGORIAN
BEGIN:VEVENT
DTSTART:20230524T223000Z
DTEND:20230524T233000Z
X-MICROSOFT-CDO-ALLDAYEVENT:FALSE
SUMMARY:FREE Flow Yoga with Sarah Brinkman
DESCRIPTION:Enjoy a FREE flow yoga\, taught by Sarah Brinkman\, at the Ord Township Library on Wednesday\, May 24 at 5:30 PM.
X-ALT-DESC;FMTTYPE=text/html:Enjoy a FREE flow yoga\, taught by Sarah Brinkman\, at the Ord Township Library on Wednesday\, May 24 at 5:30 PM.&nbsp\;
LOCATION:Ord Township Library 1718 M Street Ord\, NE
UID:e.1165.11361
SEQUENCE:3
DTSTAMP:20260419T205720Z
URL:https://chamber.ordnebraska.com/events/details/free-flow-yoga-with-sarah-brinkman-11361
END:VEVENT

END:VCALENDAR
