BEGIN:VCALENDAR
VERSION:2.0
PRODID:-//ChamberMaster//Event Calendar 2.0//EN
METHOD:PUBLISH
X-PUBLISHED-TTL:P3D
REFRESH-INTERVAL:P3D
CALSCALE:GREGORIAN
BEGIN:VEVENT
DTSTART:20110828T010000Z
DTEND:20110828T030000Z
X-MICROSOFT-CDO-ALLDAYEVENT:FALSE
SUMMARY:Fort Hartsuff Star Gazing Party
DESCRIPTION:For more information on this event visit  http://www.ordnebraska.com/star-gazing-party-planned/
X-ALT-DESC;FMTTYPE=text/html:For more information on this event visit <span _fck_bookmark="1" style="display: none">&nbsp\;</span><a href="http://www.ordnebraska.com/star-gazing-party-planned/">http://www.ordnebraska.com/star-gazing-party-planned/</a><span _fck_bookmark="1" style="display: none">&nbsp\;</span>
LOCATION:Fort Hartsuff State Park
UID:e.1165.488
SEQUENCE:3
DTSTAMP:20260424T110123Z
URL:https://chamber.ordnebraska.com/events/details/fort-hartsuff-star-gazing-party-08-27-2011-488
END:VEVENT

END:VCALENDAR
