BEGIN:VCALENDAR
VERSION:2.0
PRODID:-//ChamberMaster//Event Calendar 2.0//EN
METHOD:PUBLISH
X-PUBLISHED-TTL:P3D
REFRESH-INTERVAL:P3D
CALSCALE:GREGORIAN
BEGIN:VEVENT
DTSTART:20111022T000000Z
DTEND:20111022T023000Z
X-MICROSOFT-CDO-ALLDAYEVENT:FALSE
SUMMARY:FBLA Recycling Challenge
DESCRIPTION:FBLA will have their new recycling trailor in the parking lot of the football stadium to collect recyclable materials during the game. \n\n\n\nFor more information on FBLA's Go-Green Recycling Challenge and what materials you can recycle\, visit http://www.ordnebraska.com/fbla-launches-the-go-green-recycling-challenge/
X-ALT-DESC;FMTTYPE=text/html:FBLA will have their new recycling trailor in the parking lot of the football stadium to collect recyclable materials during the game.&nbsp\;<br />\n<br />\nFor more information on FBLA&#39\;s Go-Green Recycling Challenge and what materials you can recycle\, visit <a href="http://www.ordnebraska.com/fbla-launches-the-go-green-recycling-challenge/">http://www.ordnebraska.com/fbla-launches-the-go-green-recycling-challenge/</a><span _fck_bookmark="1" style="display: none">&nbsp\;</span><br />\n
LOCATION:Ord vs. Madison Football Game Ord Football Field
UID:e.1165.661
SEQUENCE:3
DTSTAMP:20260423T084831Z
URL:https://chamber.ordnebraska.com/events/details/fbla-recycling-challenge-10-21-2011-661
END:VEVENT

END:VCALENDAR
