BEGIN:VCALENDAR
VERSION:2.0
PRODID:-//ChamberMaster//Event Calendar 2.0//EN
METHOD:PUBLISH
X-PUBLISHED-TTL:P3D
REFRESH-INTERVAL:P3D
CALSCALE:GREGORIAN
BEGIN:VEVENT
DTSTART:20111021T010000Z
DTEND:20111021T020000Z
X-MICROSOFT-CDO-ALLDAYEVENT:FALSE
SUMMARY:Fall Band Concert
DESCRIPTION:Ms. Mindy Smith\, band director at Ord High School will be leading her band in the first band concert of the year. The Fall Band Concert will feature junior high and high school students. The band students will be playing pep band tunes as well as concert band music. A saxaphone quartet will be performing a selection of music. The night will also feature the percussion ensemble.\n\nCome for a night of fun and great music!
X-ALT-DESC;FMTTYPE=text/html:Ms. Mindy Smith\, band director at Ord High School will be leading her band in the first band concert of the year. The Fall Band Concert will feature junior high and high school students. The band students will be playing pep band tunes as well as concert band music. A saxaphone quartet will be performing a selection of music. The night will also feature the percussion ensemble.<br />\n<strong>Come for a night of fun and great music!</strong>
LOCATION:Ord High School
UID:e.1165.657
SEQUENCE:3
DTSTAMP:20260423T084923Z
URL:https://chamber.ordnebraska.com/events/details/fall-band-concert-10-20-2011-657
END:VEVENT

END:VCALENDAR
