BEGIN:VCALENDAR
VERSION:2.0
PRODID:-//ChamberMaster//Event Calendar 2.0//EN
METHOD:PUBLISH
X-PUBLISHED-TTL:P3D
REFRESH-INTERVAL:P3D
CALSCALE:GREGORIAN
BEGIN:VEVENT
DTSTART:20111025T230000Z
DTEND:20111026T010000Z
X-MICROSOFT-CDO-ALLDAYEVENT:FALSE
SUMMARY:Fall Achievement
DESCRIPTION:The evening's program "Preserving the Harvest" will be presented by Amy Sillivan.
X-ALT-DESC;FMTTYPE=text/html:The evening&#39\;s program &quot\;Preserving the Harvest&quot\; will be presented by Amy Sillivan. 
LOCATION:Valley County Fairgrounds Exhibit Hall (use south door)
UID:e.1165.659
SEQUENCE:3
DTSTAMP:20260423T083754Z
URL:https://chamber.ordnebraska.com/events/details/fall-achievement-10-25-2011-659
END:VEVENT

END:VCALENDAR
