BEGIN:VCALENDAR
VERSION:2.0
PRODID:-//ChamberMaster//Event Calendar 2.0//EN
METHOD:PUBLISH
X-PUBLISHED-TTL:P3D
REFRESH-INTERVAL:P3D
CALSCALE:GREGORIAN
BEGIN:VEVENT
DTSTART;VALUE=DATE:20110623
DTEND;VALUE=DATE:20110624
TRANSP:TRANSPARENT
X-MICROSOFT-CDO-ALLDAYEVENT:TRUE
SUMMARY:Facebook and How to Use It Class
DESCRIPTION:Attention all area Chamber of Commerce members:\n\n\n	\n		There are 5 seats left in the "Facebook & How to Use It" class this Wednesday evening\, June 22\, from 5:30-7:00 pm.\n	\n		Cost is $15 for the 90 minute class \n	\n		Taught by Jen Remmereid at the Ord Learning Center Computer Lab.\n\nContact Lu Lansman @ 728-3299 or at  llansman@frontier.com   if you are interested!
X-ALT-DESC;FMTTYPE=text/html:&nbsp\;<strong><span style="font-size: 14pt">Attention all area Chamber of Commerce members:</span></strong><br />\n<ul>\n	<li>\n		<strong><span style="font-size: 14pt">There are&nbsp\;5 seats left in the &ldquo\;Facebook &amp\; How to Use It&rdquo\; class this Wednesday evening\, June 22\, from 5:30-7:00 pm.</span></strong></li>\n	<li>\n		<strong><span style="font-size: 14pt">Cost is $15 for the 90 minute class </span></strong></li>\n	<li>\n		<strong><span style="font-size: 14pt">Taught by Jen Remmereid at the Ord Learning Center Computer Lab.</span></strong></li>\n</ul>\n<strong><span style="font-size: 14pt">Contact Lu Lansman @ 728-3299 or at&nbsp\; <a href="mailto:llansman@frontier.com">llansman@frontier.com</a>&nbsp\;&nbsp\; if you are interested!</span></strong><br />\n
LOCATION:Ord Learning Center\, 1514 K Street\, Ord\, NE
UID:e.1165.299
SEQUENCE:3
DTSTAMP:20260424T131925Z
URL:https://chamber.ordnebraska.com/events/details/facebook-and-how-to-use-it-class-06-23-2011-299
END:VEVENT

END:VCALENDAR
