BEGIN:VCALENDAR
VERSION:2.0
PRODID:-//ChamberMaster//Event Calendar 2.0//EN
METHOD:PUBLISH
X-PUBLISHED-TTL:P3D
REFRESH-INTERVAL:P3D
CALSCALE:GREGORIAN
BEGIN:VEVENT
DTSTART:20110527T210000Z
DTEND:20110528T000000Z
X-MICROSOFT-CDO-ALLDAYEVENT:FALSE
SUMMARY:ExtraORDinary New Jail
DESCRIPTION:Ever wish you could put someone in jail yourself?  Now you can!  Have someone arrested for $5 during the ExtraORDinary New Jail by contacting the Chamber office.  A wanted poster will be displayed on the Chamber website and in local businesses.  The "wanted" individual can either pay a $20 fine prior to Friday\, May 27 at 4 pm to avoid being arrested or pay $15 bail. \n\n\n\nA portion of the proceeds will benefit the Valley County Veteran's Memorial Wall.  For more information on the ExtraORDinary Jail contact the Ord Area Chamber of Commerce at (308) 728-7875.
X-ALT-DESC;FMTTYPE=text/html:Ever wish you could put someone in jail yourself?&nbsp\; Now you can!&nbsp\; Have someone arrested for $5 during the ExtraORDinary New Jail by contacting the Chamber office.&nbsp\;&nbsp\;A wanted poster will be displayed on the Chamber website and in local businesses.&nbsp\; The &quot\;wanted&quot\; individual can either pay a $20 fine prior to Friday\, May 27 at 4 pm to avoid being arrested or pay $15 bail.&nbsp\;<br />\n<br />\nA portion of the proceeds will benefit the Valley County Veteran&#39\;s Memorial Wall.&nbsp\; For more information on the ExtraORDinary Jail contact the Ord Area Chamber of Commerce at (308) 728-7875.&nbsp\; 
LOCATION:West Side of the Downtown Square in Ord
UID:e.1165.31
SEQUENCE:3
DTSTAMP:20260424T143500Z
URL:https://chamber.ordnebraska.com/events/details/extraordinary-new-jail-05-27-2011-31
END:VEVENT

END:VCALENDAR
