BEGIN:VCALENDAR
VERSION:2.0
PRODID:-//ChamberMaster//Event Calendar 2.0//EN
METHOD:PUBLISH
X-PUBLISHED-TTL:P3D
REFRESH-INTERVAL:P3D
CALSCALE:GREGORIAN
BEGIN:VEVENT
DTSTART:20110812T220000Z
DTEND:20110812T233000Z
X-MICROSOFT-CDO-ALLDAYEVENT:FALSE
SUMMARY:ExtraORDinary Farmers' Market Celebrates National Farmers' Market Week
DESCRIPTION:Additional events will take place at the ExtraORDinary Farmers' Market in celebration of National Farmers' Market Week.  Participants from this summers' ESI Entrepreneurship Camp will also be selling their products.
X-ALT-DESC;FMTTYPE=text/html:Additional events will take place at the ExtraORDinary Farmers&#39\; Market in celebration of National Farmers&#39\; Market Week.&nbsp\;&nbsp\;Participants from this summers&#39\; ESI Entrepreneurship Camp will also be selling their products. &nbsp\;
LOCATION:Little Park in Ord\, on 18th Street between 'O' and 'P' Streets in Ord.
UID:e.1165.487
SEQUENCE:3
DTSTAMP:20260424T110245Z
URL:https://chamber.ordnebraska.com/events/details/extraordinary-farmers-market-celebrates-national-farmers-market-week-08-12-2011-487
END:VEVENT

END:VCALENDAR
