BEGIN:VCALENDAR
VERSION:2.0
PRODID:-//ChamberMaster//Event Calendar 2.0//EN
METHOD:PUBLISH
X-PUBLISHED-TTL:P3D
REFRESH-INTERVAL:P3D
CALSCALE:GREGORIAN
BEGIN:VEVENT
DTSTART:20110923T220000Z
DTEND:20110923T233000Z
X-MICROSOFT-CDO-ALLDAYEVENT:FALSE
SUMMARY:ExtraORDinary Farmers' Market
DESCRIPTION:The ExtraORDinary Farmers' Market features fresh tomatoes\, cucumbers\, summer squash\, home baked breads\, rolls\, pies\, chickens\, eggs\, and craft items.  By purchasing fresh\, locally grown produce at your farmers' market\, you are helping to support the local economy.
X-ALT-DESC;FMTTYPE=text/html:The ExtraORDinary Farmers&#39\; Market features fresh tomatoes\, cucumbers\, summer squash\, home baked breads\, rolls\, pies\, chickens\, eggs\, and craft items.&nbsp\; By purchasing fresh\, locally grown produce at your farmers&#39\; market\, you are helping to support the local economy. 
LOCATION:Little Park in Ord\, on 18th Street between 'O' and 'P' Streets.
UID:e.1165.485
SEQUENCE:3
DTSTAMP:20260423T101118Z
URL:https://chamber.ordnebraska.com/events/details/extraordinary-farmers-market-09-23-2011-485
END:VEVENT

END:VCALENDAR
