BEGIN:VCALENDAR
VERSION:2.0
PRODID:-//ChamberMaster//Event Calendar 2.0//EN
METHOD:PUBLISH
X-PUBLISHED-TTL:P3D
REFRESH-INTERVAL:P3D
CALSCALE:GREGORIAN
BEGIN:VEVENT
DTSTART:20110826T220000Z
DTEND:20110826T233000Z
X-MICROSOFT-CDO-ALLDAYEVENT:FALSE
SUMMARY:ExtraORDinary Farmers' Market
DESCRIPTION:The ExtraORDinary Farmers' Market features fresh tomatoes\, cucumbers\, summer squash\, home baked breads\, rolls\, pies\, chickens\, eggs\, and craft items.  By purchasing fresh\, locally grown produce at your farmers' market\, you are helping to support the local economy.
X-ALT-DESC;FMTTYPE=text/html:The ExtraORDinary Farmers&#39\; Market features fresh tomatoes\, cucumbers\, summer squash\, home baked breads\, rolls\, pies\, chickens\, eggs\, and craft items.&nbsp\; By purchasing fresh\, locally grown produce at your farmers&#39\; market\, you are helping to support the local economy. 
LOCATION:Little Park in Ord\, on 18th Street between 'O' and 'P' Streets.
UID:e.1165.481
SEQUENCE:3
DTSTAMP:20260424T105725Z
URL:https://chamber.ordnebraska.com/events/details/extraordinary-farmers-market-08-26-2011-481
END:VEVENT

END:VCALENDAR
