BEGIN:VCALENDAR
VERSION:2.0
PRODID:-//ChamberMaster//Event Calendar 2.0//EN
METHOD:PUBLISH
X-PUBLISHED-TTL:P3D
REFRESH-INTERVAL:P3D
CALSCALE:GREGORIAN
BEGIN:VEVENT
DTSTART:20130125T140000Z
DTEND:20130125T150000Z
X-MICROSOFT-CDO-ALLDAYEVENT:FALSE
SUMMARY:ExtraORDinary Days Transition Committee
DESCRIPTION:Any community member or organization interested in the transition process for ExtraORDinary Days is welcome to attend the committee meeting.
X-ALT-DESC;FMTTYPE=text/html:Any community member or organization interested in the transition process for ExtraORDinary Days is welcome to attend the committee meeting.&nbsp\;<br />\n<br />\n<br />\n
LOCATION:Chamber office 1514 K Street - Ord
UID:e.1165.1346
SEQUENCE:3
DTSTAMP:20260423T100750Z
URL:https://chamber.ordnebraska.com/events/details/extraordinary-days-transition-committee-01-25-2013-1346
END:VEVENT

END:VCALENDAR
