BEGIN:VCALENDAR
VERSION:2.0
PRODID:-//ChamberMaster//Event Calendar 2.0//EN
METHOD:PUBLISH
X-PUBLISHED-TTL:P3D
REFRESH-INTERVAL:P3D
CALSCALE:GREGORIAN
BEGIN:VEVENT
DTSTART:20110528T003000Z
DTEND:20110529T013000Z
X-MICROSOFT-CDO-ALLDAYEVENT:FALSE
SUMMARY:ExtraORDinary Days Minute to Win It
DESCRIPTION:The ExtraORDinary Days Minute to Win it contest qualifying round will be held on Friday\, May 27th at 7:30 p.m. at the Valley County Courthouse.  The championship round will be held on Saturday\, May 28th at 5:30 p.m. at the Valley County Courthouse. \n\n\n\nMust be 13 years of age or older\n\nEntry fee of $5 per person due by May 27th\n\nContestants must perform a serioes of Minute-to-Win-It games until only one contestant remains
X-ALT-DESC;FMTTYPE=text/html:The ExtraORDinary Days Minute to Win it contest qualifying round will be held on Friday\, May 27th at 7:30 p.m. at the Valley County Courthouse.&nbsp\; The championship round will be held on Saturday\, May 28th at 5:30 p.m. at the Valley County Courthouse.&nbsp\;<br />\n<br />\nMust be 13 years of age or older<br />\nEntry fee of $5 per person due by May 27th<br />\nContestants must perform a serioes of Minute-to-Win-It games until only one contestant remains
LOCATION:Valley County Courthouse Lawn - Downtown Ord
UID:e.1165.24
SEQUENCE:3
DTSTAMP:20260424T144327Z
URL:https://chamber.ordnebraska.com/events/details/extraordinary-days-minute-to-win-it-05-27-2011-24
END:VEVENT

END:VCALENDAR
