BEGIN:VCALENDAR
VERSION:2.0
PRODID:-//ChamberMaster//Event Calendar 2.0//EN
METHOD:PUBLISH
X-PUBLISHED-TTL:P3D
REFRESH-INTERVAL:P3D
CALSCALE:GREGORIAN
BEGIN:VEVENT
DTSTART;VALUE=DATE:20110526
DTEND;VALUE=DATE:20110530
TRANSP:TRANSPARENT
X-MICROSOFT-CDO-ALLDAYEVENT:TRUE
SUMMARY:ExtraORDinary Days
DESCRIPTION:ExtraORDinary Days begins on Thursday\, May 27\, 2001 with a free barbecue and a movie as well as the ExtraORDinary Duck Race.  Other events planned for the three day event include the Sheila Greenland Dance and Concert\, Shrine Circus\, the ExtraOrdinary New Jail\, FFA Barbecue\, Minute to Win It Competition\, street dance featuring the Emmett Bower Band\, Volleyball Games\, Softball Games\, Ethnic Food Fare\, Fishing Contest\, Free movies\, Kids games Pancake Feed and much\, much more.
X-ALT-DESC;FMTTYPE=text/html:ExtraORDinary Days begins on Thursday\, May 27\, 2001 with a free barbecue and a movie as well as the ExtraORDinary Duck Race.&nbsp\; Other events planned for the three day event include the Sheila Greenland Dance and Concert\, Shrine Circus\, the ExtraOrdinary New Jail\, FFA Barbecue\, Minute to Win It Competition\, street dance featuring the Emmett Bower Band\, Volleyball Games\, Softball Games\, Ethnic Food Fare\, Fishing Contest\, Free movies\, Kids games Pancake&nbsp\;Feed&nbsp\;and much\, much more.&nbsp\; 
LOCATION:
UID:e.1165.4
SEQUENCE:3
DTSTAMP:20260424T143407Z
URL:https://chamber.ordnebraska.com/events/details/extraordinary-days-05-26-2011-4
END:VEVENT

END:VCALENDAR
