BEGIN:VCALENDAR
VERSION:2.0
PRODID:-//ChamberMaster//Event Calendar 2.0//EN
METHOD:PUBLISH
X-PUBLISHED-TTL:P3D
REFRESH-INTERVAL:P3D
CALSCALE:GREGORIAN
BEGIN:VEVENT
DTSTART:20110528T150000Z
DTEND:20110528T170000Z
X-MICROSOFT-CDO-ALLDAYEVENT:FALSE
SUMMARY:ExtraORDinary Coed Softball Tournament
DESCRIPTION:ExtraORDinary Softball Coed Tournament sponsored by the Ord Area Chamber of Commerce.
X-ALT-DESC;FMTTYPE=text/html:ExtraORDinary Softball Coed Tournament sponsored by the Ord Area Chamber of Commerce.
LOCATION:Bussell Park Softball Field
UID:e.1165.22
SEQUENCE:3
DTSTAMP:20260424T143542Z
URL:https://chamber.ordnebraska.com/events/details/extraordinary-coed-softball-tournament-05-28-2011-22
END:VEVENT

END:VCALENDAR
