BEGIN:VCALENDAR
VERSION:2.0
PRODID:-//ChamberMaster//Event Calendar 2.0//EN
METHOD:PUBLISH
X-PUBLISHED-TTL:P3D
REFRESH-INTERVAL:P3D
CALSCALE:GREGORIAN
BEGIN:VEVENT
DTSTART:20110915T000000Z
DTEND:20110915T003000Z
X-MICROSOFT-CDO-ALLDAYEVENT:FALSE
SUMMARY:Event at Ord Township Library
DESCRIPTION:A Town Hall Meeting will be held at the Ord Township Library to vote upon a levy override of 9.8  cents for every $100 of property valuation.  Current levy amount is set at 5.2.   This funding would be for 1 year and would support the library's operational needs.  10% of the registered voters of the Ord Township would need to be present for a vote to take place.  Questions?  Contact the library at 728-3012 or director@ordlibrary.org.
X-ALT-DESC;FMTTYPE=text/html:<strong>A&nbsp\;Town Hall Meeting will be held at the Ord Township Library to vote upon a levy override of 9.8&nbsp\; cents for every $100 of property valuation.&nbsp\; Current levy amount is set at 5.2.&nbsp\;&nbsp\;&nbsp\;This funding would be for 1 year and would support the library&#39\;s operational needs.&nbsp\; 10% of the registered voters of the Ord Township would need to be present for a vote to take place.&nbsp\; Questions?&nbsp\; Contact the library at 728-3012 or&nbsp\;<a href="mailto:director@ordlibrary.org">director@ordlibrary.org</a>.&nbsp\; &nbsp\;</strong>
LOCATION:1718 M Street
UID:e.1165.510
SEQUENCE:3
DTSTAMP:20260423T101647Z
URL:https://chamber.ordnebraska.com/events/details/event-at-ord-township-library-09-14-2011-510
END:VEVENT

END:VCALENDAR
