BEGIN:VCALENDAR
VERSION:2.0
PRODID:-//ChamberMaster//Event Calendar 2.0//EN
METHOD:PUBLISH
X-PUBLISHED-TTL:P3D
REFRESH-INTERVAL:P3D
CALSCALE:GREGORIAN
BEGIN:VEVENT
DTSTART:20110825T200000Z
DTEND:20110826T000000Z
X-MICROSOFT-CDO-ALLDAYEVENT:FALSE
SUMMARY:Event at Dorsey Eyecare
DESCRIPTION:Kids' and Teens' Frame Show Open House
X-ALT-DESC;FMTTYPE=text/html:Kids&#39\; and Teens&#39\; Frame Show Open House
LOCATION:Dorsey Eyecare\, 314 South 14th Street\, Ord\, Nebraska
UID:e.1165.490
SEQUENCE:3
DTSTAMP:20260424T105658Z
URL:https://chamber.ordnebraska.com/events/details/event-at-dorsey-eyecare-08-25-2011-490
END:VEVENT

END:VCALENDAR
