BEGIN:VCALENDAR
VERSION:2.0
PRODID:-//ChamberMaster//Event Calendar 2.0//EN
METHOD:PUBLISH
X-PUBLISHED-TTL:P3D
REFRESH-INTERVAL:P3D
CALSCALE:GREGORIAN
BEGIN:VEVENT
DTSTART;VALUE=DATE:20130201
DTEND;VALUE=DATE:20130202
TRANSP:TRANSPARENT
X-MICROSOFT-CDO-ALLDAYEVENT:TRUE
SUMMARY:EPA Certified Renovator Training
DESCRIPTION:The EPA has new lead-based paint training requirements for renovation contractors who work on pre-1978 homes and receive compensation for their work. If you disturb more than 6 sq. ft. of a painted surface in any one interior room or 20 sq. ft. on the exterior of a pre-1978 home\, then these rules effect you. \n\n\n\nFor information on the EPA's new Renovation\, Repair\, and Painting Rule and to register for the training class\, contract Leigh Alexander. \n\n\n\nContractors with previous lead-based paint training are not exempt from this new training requirement.
X-ALT-DESC;FMTTYPE=text/html:The EPA has new lead-based paint training requirements for renovation contractors who work on pre-1978 homes and receive compensation for their work. If you disturb&nbsp\;more than 6 sq. ft. of a painted surface in any one interior room or 20 sq. ft. on the exterior of a pre-1978 home\, then these rules effect you.&nbsp\;<br />\n<br />\nFor information on the EPA&#39\;s new Renovation\, Repair\, and Painting Rule and to register for the training class\, contract Leigh Alexander.&nbsp\;<br />\n<br />\nContractors with previous lead-based paint training are not exempt from this new training requirement.&nbsp\;<br />\n<br />\n
LOCATION:Ord Professional Center Lower Level 314 S. 14th Street - Ord
UID:e.1165.1347
SEQUENCE:3
DTSTAMP:20260423T083825Z
URL:https://chamber.ordnebraska.com/events/details/epa-certified-renovator-training-02-01-2013-1347
END:VEVENT

END:VCALENDAR
