BEGIN:VCALENDAR
VERSION:2.0
PRODID:-//ChamberMaster//Event Calendar 2.0//EN
METHOD:PUBLISH
X-PUBLISHED-TTL:P3D
REFRESH-INTERVAL:P3D
CALSCALE:GREGORIAN
BEGIN:VEVENT
DTSTART;VALUE=DATE:20110615
DTEND;VALUE=DATE:20110618
TRANSP:TRANSPARENT
X-MICROSOFT-CDO-ALLDAYEVENT:TRUE
SUMMARY:Entrepreneurship Summer Camp
DESCRIPTION:The UNL Extension Office is hosting a Summer Entrepreneurship Camp for students in 5th through 9th grade.  Participants will discover the importance of entrepreneurs to our local community and have the opportunity to create their own business and sell their products.
X-ALT-DESC;FMTTYPE=text/html:<p>\n	The UNL Extension Office is hosting a Summer Entrepreneurship Camp for students in 5th through 9th grade.&nbsp\; Participants will discover the importance of entrepreneurs to our local community and have the opportunity to create their own business and sell their products.&nbsp\;</p>\n
LOCATION:Various locations in Ord. Sessions will mainly take place at the Loup Valley Ag Complex but participants will also get the opportunity to tour various local businesses.
UID:e.1165.36
SEQUENCE:3
DTSTAMP:20260424T143512Z
URL:https://chamber.ordnebraska.com/events/details/entrepreneurship-summer-camp-06-15-2011-36
END:VEVENT

END:VCALENDAR
