BEGIN:VCALENDAR
VERSION:2.0
PRODID:-//ChamberMaster//Event Calendar 2.0//EN
METHOD:PUBLISH
X-PUBLISHED-TTL:P3D
REFRESH-INTERVAL:P3D
CALSCALE:GREGORIAN
BEGIN:VEVENT
DTSTART:20130228T230000Z
DTEND:20130301T030000Z
X-MICROSOFT-CDO-ALLDAYEVENT:FALSE
SUMMARY:Dobbins Service Center Business After Hours
DESCRIPTION:Dobbins Service Center would like to invite you to their Business After Hours event on February 28th. Stop by to enjoy refreshments and tour their new show room!
X-ALT-DESC;FMTTYPE=text/html:Dobbins Service Center would like to invite you to their Business After Hours event on February 28th. Stop by to enjoy refreshments and tour their new show room!&nbsp\;
LOCATION:Dobbins Service Center 1008 G Street - Burwell
UID:e.1165.1354
SEQUENCE:3
DTSTAMP:20260423T085212Z
URL:https://chamber.ordnebraska.com/events/details/dobbins-service-center-business-after-hours-02-28-2013-1354
END:VEVENT

END:VCALENDAR
