BEGIN:VCALENDAR
VERSION:2.0
PRODID:-//ChamberMaster//Event Calendar 2.0//EN
METHOD:PUBLISH
X-PUBLISHED-TTL:P3D
REFRESH-INTERVAL:P3D
CALSCALE:GREGORIAN
BEGIN:VEVENT
DTSTART:20110528T020000Z
DTEND:20110528T045500Z
X-MICROSOFT-CDO-ALLDAYEVENT:FALSE
SUMMARY:Dance to the Emmett Bower Band
DESCRIPTION:Dance to the Emmett Bower Band at Ya'll Come Back Saloon.  The first live performance of ExtraORDinary Days is sponsored by the Loup Valley Jaycees.
X-ALT-DESC;FMTTYPE=text/html:Dance to the Emmett Bower Band at Ya&#39\;ll Come Back Saloon.&nbsp\; The first live performance of ExtraORDinary Days is sponsored by the Loup Valley Jaycees.&nbsp\; 
LOCATION:Ya'll Come Back Saloon\, Downtown Ord
UID:e.1165.33
SEQUENCE:3
DTSTAMP:20260424T143807Z
URL:https://chamber.ordnebraska.com/events/details/dance-to-the-emmett-bower-band-05-27-2011-33
END:VEVENT

END:VCALENDAR
