BEGIN:VCALENDAR
VERSION:2.0
PRODID:-//ChamberMaster//Event Calendar 2.0//EN
METHOD:PUBLISH
X-PUBLISHED-TTL:P3D
REFRESH-INTERVAL:P3D
CALSCALE:GREGORIAN
BEGIN:VEVENT
DTSTART:20130112T233000Z
DTEND:20130113T050000Z
X-MICROSOFT-CDO-ALLDAYEVENT:FALSE
SUMMARY:Cruise to the Orient Annual VCHS Foundation Charity Gala
DESCRIPTION:Social hour will begin at 5:30 pm.\n\nDinner will begin at 6:30 pm.\n\n\n\nLive and silent auction.\n\n\n\nThe event will feature nationally recognized comedian\, Sam Adams.
X-ALT-DESC;FMTTYPE=text/html:Social hour will begin at 5:30 pm.<br />\nDinner will begin at 6:30 pm.<br />\n<br />\nLive and silent auction.<br />\n<br />\nThe&nbsp\;event will feature nationally recognized comedian\, Sam Adams.&nbsp\;
LOCATION:Ord Veteran's Club
UID:e.1165.796
SEQUENCE:3
DTSTAMP:20260423T101437Z
URL:https://chamber.ordnebraska.com/events/details/cruise-to-the-orient-annual-vchs-foundation-charity-gala-01-12-2013-796
END:VEVENT

END:VCALENDAR
