BEGIN:VCALENDAR
VERSION:2.0
PRODID:-//ChamberMaster//Event Calendar 2.0//EN
METHOD:PUBLISH
X-PUBLISHED-TTL:P3D
REFRESH-INTERVAL:P3D
CALSCALE:GREGORIAN
BEGIN:VEVENT
DTSTART:20111016T160000Z
DTEND:20111016T190000Z
X-MICROSOFT-CDO-ALLDAYEVENT:FALSE
SUMMARY:Community Appreciation Pancake Feed
DESCRIPTION:To show our appreciation for the community members that support our local businesses\, the Ord Area Chamber of Commerce will be hosting a FREE Community Appreciation Pancake Feed.  The free pancake feed is made possible by the 110% members of the Ord Area Chamber of Commerce.\n\n	\n\n	The FBLA (Future Business Leaders of America) students will also be present to provide information on their current activities and goals for this year.\n\n	\n\n	The Pancake Feed will have a Halloween theme so don't forget to wear your costume! Those with a costume will be photographed and the most popular costume will receive $50 in Ord Area ChamberBucks. Details on the costume contest will be posted one week before the event.
X-ALT-DESC;FMTTYPE=text/html:<p>\n	To show our appreciation for the community members that support our local businesses\, the Ord Area Chamber of Commerce will be hosting a FREE Community Appreciation Pancake Feed.&nbsp\; The free pancake feed is made possible by the 110% members of the Ord Area Chamber of Commerce.<br />\n	<br />\n	The FBLA (Future Business Leaders of America) students will also be present to provide information on their current activities and goals for this year.<br />\n	<br />\n	The Pancake Feed will have a Halloween theme so don&#39\;t forget to wear your costume! Those with a costume will be photographed and the most popular costume will receive $50 in Ord Area ChamberBucks. Details on the costume contest will be posted one week before the event.</p>\n
LOCATION:Ord High School's new commons area\, 18th & K Street
UID:e.1165.492
SEQUENCE:3
DTSTAMP:20260423T083901Z
URL:https://chamber.ordnebraska.com/events/details/community-appreciation-pancake-feed-10-16-2011-492
END:VEVENT

END:VCALENDAR
