BEGIN:VCALENDAR
VERSION:2.0
PRODID:-//ChamberMaster//Event Calendar 2.0//EN
METHOD:PUBLISH
X-PUBLISHED-TTL:P3D
REFRESH-INTERVAL:P3D
CALSCALE:GREGORIAN
BEGIN:VEVENT
DTSTART:20110820T220000Z
DTEND:20110821T020000Z
X-MICROSOFT-CDO-ALLDAYEVENT:FALSE
SUMMARY:Chanticleer Extravaganza - A First Look
DESCRIPTION:The Ord Public Schools Foundation\, Inc. is excited to pair with the Ord Sports Boosters for our inaugural fundraiser the "Chanticleer Extravaganza   A First Look."  The event will take place Saturday\, August 20that the Ord Veteran's Club beginning at 5:00 p.m. with a social hour. \n\n\n\nTours of the new addition and renovation will be offered between 5:00 to 7:00 p.m.  The Big Red Chant bus will run continuously between the Vet's Club and school for your convenience.  At 7:00 p.m. a steak dinner will be served with Live and Silent Auctions to follow.\n\n\n\nExtravaganza tickets are $20 and may be purchased from local businesses. Purchase of tickets will automatically enter you into a $200 raffle.\n\nQuestions concerning event details can be addressed to Neal Carson\, Ord Sports Booster President or Kathy Waldmann\, Ord Public Schools Foundation\, Inc. President.\n\n\n\nShow your Chant Spirit on August 20th\, by joining us at the Chanticleer Extravaganza.
X-ALT-DESC;FMTTYPE=text/html:<span style="font-size: 11px">The Ord Public Schools Foundation\, Inc. is excited to pair with the Ord Sports Boosters for our inaugural fundraiser the &ldquo\;Chanticleer Extravaganza &ndash\; A First Look.&rdquo\;&nbsp\; The event will take place Saturday\, August 20<sup>th</sup>at the Ord Veteran&rsquo\;s Club beginning at 5:00 p.m. with a social hour.&nbsp\;<br />\n<br />\nTours of the new addition and renovation will be offered between 5:00 to 7:00 p.m.&nbsp\; The Big Red Chant bus will run continuously between the Vet&rsquo\;s Club and school for your convenience.&nbsp\; At 7:00 p.m. a steak dinner will be served with Live and Silent Auctions to follow.<br />\n<br />\nExtravaganza tickets are $20 and may be purchased from local businesses. Purchase of tickets will automatically enter you into a $200 raffle.<br />\nQuestions concerning event details can be addressed to Neal Carson\, Ord Sports Booster President or Kathy Waldmann\, Ord Public Schools Foundation\, Inc. President.<br />\n<br />\nShow your Chant Spirit on August 20<sup>th</sup>\, by joining us at the Chanticleer Extravaganza.&nbsp\;&nbsp\;&nbsp\;</span><br />\n
LOCATION:Ord Veteran's Club and the Ord High School
UID:e.1165.298
SEQUENCE:3
DTSTAMP:20260424T104900Z
URL:https://chamber.ordnebraska.com/events/details/chanticleer-extravaganza-a-first-look-08-20-2011-298
END:VEVENT

END:VCALENDAR
