BEGIN:VCALENDAR
VERSION:2.0
PRODID:-//ChamberMaster//Event Calendar 2.0//EN
METHOD:PUBLISH
X-PUBLISHED-TTL:P3D
REFRESH-INTERVAL:P3D
CALSCALE:GREGORIAN
BEGIN:VEVENT
DTSTART:20110511T170000Z
DTEND:20110511T180000Z
X-MICROSOFT-CDO-ALLDAYEVENT:FALSE
SUMMARY:ChamberMaster Workshop
DESCRIPTION:ChamberMaster Workshop to acquaint members with the new web based Chamber Directory.  Free lunch to be provided.  Limited to first 25 to register.
X-ALT-DESC;FMTTYPE=text/html:ChamberMaster Workshop to acquaint members with the new web based Chamber Directory.&nbsp\; Free lunch to be provided.&nbsp\; Limited to first 25 to register. 
LOCATION:Ord Area Chamber of Commerce Office\, 1514 K Street\, Ord NE
UID:e.1165.23
SEQUENCE:3
DTSTAMP:20260424T143148Z
URL:https://chamber.ordnebraska.com/events/details/chambermaster-workshop-05-11-2011-23
END:VEVENT

END:VCALENDAR
