BEGIN:VCALENDAR
VERSION:2.0
PRODID:-//ChamberMaster//Event Calendar 2.0//EN
METHOD:PUBLISH
X-PUBLISHED-TTL:P3D
REFRESH-INTERVAL:P3D
CALSCALE:GREGORIAN
BEGIN:VEVENT
DTSTART:20110727T221500Z
DTEND:20110727T231500Z
X-MICROSOFT-CDO-ALLDAYEVENT:FALSE
SUMMARY:ChamberMaster Training #3
DESCRIPTION:Chamber business members can utilize ChamberMaster\, our new database management system\, by updating their online business listing\, advertising "hot deals\," adding job opportunities and events and much more.  To assist members in using and learning more about the program a FREE training session will be held with a FREE SUPPER for participants.\n\n\n\nIf you would like to attend\, contact the Chamber office at (308) 728-7875 or email Kristina at kvolf@frontier.com.
X-ALT-DESC;FMTTYPE=text/html:Chamber business members can utilize ChamberMaster\, our new database management system\, by updating their online business listing\, advertising &quot\;hot deals\,&quot\; adding job opportunities and events and much more.&nbsp\; To assist members in using and learning more about the program a FREE training session will be held with a FREE SUPPER for participants.<br />\n<br />\nIf you would like to attend\, contact the Chamber office at (308) 728-7875 or email Kristina at <a href="mailto:kvolf@frontier.com">kvolf@frontier.com</a>.&nbsp\;<span _fck_bookmark="1" style="display: none">&nbsp\;</span>
LOCATION:Ord Area Chamber of Commerce\, 1514 K Street
UID:e.1165.454
SEQUENCE:3
DTSTAMP:20260424T115641Z
URL:https://chamber.ordnebraska.com/events/details/chambermaster-training-3-07-27-2011-454
END:VEVENT

END:VCALENDAR
