BEGIN:VCALENDAR
VERSION:2.0
PRODID:-//ChamberMaster//Event Calendar 2.0//EN
METHOD:PUBLISH
X-PUBLISHED-TTL:P3D
REFRESH-INTERVAL:P3D
CALSCALE:GREGORIAN
BEGIN:VEVENT
DTSTART:20110921T170000Z
DTEND:20110921T183000Z
X-MICROSOFT-CDO-ALLDAYEVENT:FALSE
SUMMARY:ChamberMaster Training
DESCRIPTION:Learn how to make the most of your web presence on ordnebraska.com by using the new ChamberMaster software.  Post events\, hot deals\, update your web page and much\, much more.
X-ALT-DESC;FMTTYPE=text/html:<span _fck_bookmark="1" style="display: none">&nbsp\;</span>Learn how to make the most of your web presence on ordnebraska.com by using the new ChamberMaster software.&nbsp\; Post events\, hot deals\, update your web page and much\, much more.&nbsp\; 
LOCATION:Ord Area Chamber of Commerce\, 1514 K Street\, Ord NE 68862
UID:e.1165.491
SEQUENCE:3
DTSTAMP:20260423T100440Z
URL:https://chamber.ordnebraska.com/events/details/chambermaster-training-09-21-2011-491
END:VEVENT

END:VCALENDAR
