BEGIN:VCALENDAR
VERSION:2.0
PRODID:-//ChamberMaster//Event Calendar 2.0//EN
METHOD:PUBLISH
X-PUBLISHED-TTL:P3D
REFRESH-INTERVAL:P3D
CALSCALE:GREGORIAN
BEGIN:VEVENT
DTSTART:20110913T130000Z
DTEND:20110913T140000Z
X-MICROSOFT-CDO-ALLDAYEVENT:FALSE
SUMMARY:Chamber Retail Meeting
DESCRIPTION:The Ord Area Chamber of Commerce will be hosting a meeting for Chamber retail businesses regarding our local retail sector.  This is an opportunity for retail owners and managers to provide comments and suggestions on ways to improve our local retail community. \n\n\n\nIf you are interested in attending this meeting\, please contact Kristina or Janie at the Chamber office by phone or email.
X-ALT-DESC;FMTTYPE=text/html:The Ord Area Chamber of Commerce will be hosting a meeting for Chamber retail businesses regarding our local retail sector.&nbsp\; This is an opportunity for retail owners and managers to provide comments and suggestions on ways to improve our local retail community.&nbsp\;<br />\n<br />\nIf you are interested in attending this meeting\, please contact Kristina or Janie at the Chamber office by phone or email. 
LOCATION:Ord Area Chamber of Commerce\, 1514 K Street
UID:e.1165.505
SEQUENCE:3
DTSTAMP:20260423T100926Z
URL:https://chamber.ordnebraska.com/events/details/chamber-retail-meeting-09-13-2011-505
END:VEVENT

END:VCALENDAR
