BEGIN:VCALENDAR
VERSION:2.0
PRODID:-//ChamberMaster//Event Calendar 2.0//EN
METHOD:PUBLISH
X-PUBLISHED-TTL:P3D
REFRESH-INTERVAL:P3D
CALSCALE:GREGORIAN
BEGIN:VEVENT
DTSTART:20110802T170000Z
DTEND:20110802T180000Z
X-MICROSOFT-CDO-ALLDAYEVENT:FALSE
SUMMARY:Chamber Promotions Meeting
DESCRIPTION:
X-ALT-DESC;FMTTYPE=text/html:
LOCATION:Ord Area Chamber of Commerce\, 1514 K Street
UID:e.1165.455
SEQUENCE:3
DTSTAMP:20260424T105607Z
URL:https://chamber.ordnebraska.com/events/details/chamber-promotions-meeting-08-02-2011-455
END:VEVENT

END:VCALENDAR
