BEGIN:VCALENDAR
VERSION:2.0
PRODID:-//ChamberMaster//Event Calendar 2.0//EN
METHOD:PUBLISH
X-PUBLISHED-TTL:P3D
REFRESH-INTERVAL:P3D
CALSCALE:GREGORIAN
BEGIN:VEVENT
DTSTART:20130131T143000Z
DTEND:20130131T153000Z
X-MICROSOFT-CDO-ALLDAYEVENT:FALSE
SUMMARY:Chamber Promotions Committee Meeting
DESCRIPTION:
X-ALT-DESC;FMTTYPE=text/html:
LOCATION:Ord Area Chamber of Commerce 1514 K Street - Ord
UID:e.1165.1352
SEQUENCE:3
DTSTAMP:20260419T154049Z
URL:https://chamber.ordnebraska.com/events/details/chamber-promotions-committee-meeting-01-31-2013-1352
END:VEVENT

END:VCALENDAR
