BEGIN:VCALENDAR
VERSION:2.0
PRODID:-//ChamberMaster//Event Calendar 2.0//EN
METHOD:PUBLISH
X-PUBLISHED-TTL:P3D
REFRESH-INTERVAL:P3D
CALSCALE:GREGORIAN
BEGIN:VEVENT
DTSTART:20110927T170000Z
DTEND:20110927T180000Z
X-MICROSOFT-CDO-ALLDAYEVENT:FALSE
SUMMARY:Chamber Legislative Forum
DESCRIPTION:Representatives from the Nebraska State Chamber will be present to discuss issues concerning Nebraska businesses and to gather input from local businesses and employers. \n\n	To register for this event\, contact Kristina at (308) 728-7875 or kvolf@frontier.com.  You can also register online by clicking the button above.
X-ALT-DESC;FMTTYPE=text/html:<p>\n	Representatives from the Nebraska State Chamber will be present to discuss issues concerning Nebraska businesses and to gather input from local businesses and employers.&nbsp\;</p>\n<p>\n	To register for this event\, contact Kristina at (308) 728-7875 or <a href="mailto:kvolf@frontier.com">kvolf@frontier.com</a>.&nbsp\; You can also register online by clicking the button above.</p>\n
LOCATION:Ord Area Chamber of Commerce\, 1514 K Street
UID:e.1165.512
SEQUENCE:3
DTSTAMP:20260423T100616Z
URL:https://chamber.ordnebraska.com/events/details/chamber-legislative-forum-09-27-2011-512
END:VEVENT

END:VCALENDAR
