BEGIN:VCALENDAR
VERSION:2.0
PRODID:-//ChamberMaster//Event Calendar 2.0//EN
METHOD:PUBLISH
X-PUBLISHED-TTL:P3D
REFRESH-INTERVAL:P3D
CALSCALE:GREGORIAN
BEGIN:VEVENT
DTSTART:20130116T220000Z
DTEND:20130116T230000Z
X-MICROSOFT-CDO-ALLDAYEVENT:FALSE
SUMMARY:Chamber Community Events Committee Meeting
DESCRIPTION:
X-ALT-DESC;FMTTYPE=text/html:
LOCATION:Chamber office 1514 K Street - Ord
UID:e.1165.1344
SEQUENCE:3
DTSTAMP:20260419T161027Z
URL:https://chamber.ordnebraska.com/events/details/chamber-community-events-committee-meeting-01-16-2013-1344
END:VEVENT

END:VCALENDAR
