BEGIN:VCALENDAR
VERSION:2.0
PRODID:-//ChamberMaster//Event Calendar 2.0//EN
METHOD:PUBLISH
X-PUBLISHED-TTL:P3D
REFRESH-INTERVAL:P3D
CALSCALE:GREGORIAN
BEGIN:VEVENT
DTSTART:20130116T180000Z
DTEND:20130116T190000Z
X-MICROSOFT-CDO-ALLDAYEVENT:FALSE
SUMMARY:Chamber Business Assistance & Expansion Committee Meeting
DESCRIPTION:
X-ALT-DESC;FMTTYPE=text/html:
LOCATION:Chamber office 1514 K Street - Ord
UID:e.1165.1343
SEQUENCE:3
DTSTAMP:20260423T101508Z
URL:https://chamber.ordnebraska.com/events/details/chamber-business-assistance-expansion-committee-meeting-01-16-2013-1343
END:VEVENT

END:VCALENDAR
