BEGIN:VCALENDAR
VERSION:2.0
PRODID:-//ChamberMaster//Event Calendar 2.0//EN
METHOD:PUBLISH
X-PUBLISHED-TTL:P3D
REFRESH-INTERVAL:P3D
CALSCALE:GREGORIAN
BEGIN:VEVENT
DTSTART:20110913T170000Z
DTEND:20110913T180000Z
X-MICROSOFT-CDO-ALLDAYEVENT:FALSE
SUMMARY:Chamber Board Meeting
DESCRIPTION:
X-ALT-DESC;FMTTYPE=text/html:
LOCATION:Ord Area Chamber of Commerce\, 1514 K Street
UID:e.1165.500
SEQUENCE:3
DTSTAMP:20260423T100808Z
URL:https://chamber.ordnebraska.com/events/details/chamber-board-meeting-09-13-2011-500
END:VEVENT

END:VCALENDAR
