BEGIN:VCALENDAR
VERSION:2.0
PRODID:-//ChamberMaster//Event Calendar 2.0//EN
METHOD:PUBLISH
X-PUBLISHED-TTL:P3D
REFRESH-INTERVAL:P3D
CALSCALE:GREGORIAN
BEGIN:VEVENT
DTSTART:20111011T220000Z
DTEND:20111012T010000Z
X-MICROSOFT-CDO-ALLDAYEVENT:FALSE
SUMMARY:Celebrate Being a Woman
DESCRIPTION:Women of all ages are invited to attend Valley County Health System's annual Celebrate Being a Woman. The event includes a meal\, gifts\, exhibits\, speakers\, raffle and door prizes. Last year's event drew more than 300 women and 40 exhibitors!  The registration deadline is October 4th and space is limited.  \n\n\n\nThe event includes a meal\, gifts\, exhibits\, speakers\, raffle and door prizes. Last year's event drew more than 300 women and 40 exhibitors!The event includes a meal\, gifts\, exhibits\, speakers\, raffle and door prizes. Last year's event drew more than 300 women and 40 exhibitors! The event includes a meal\, gifts\, exhibits\, speakers\, raffle and door prizes. Last year's event drew more than 300 women and 40 exhibitors!
X-ALT-DESC;FMTTYPE=text/html:Women of all ages are invited to attend Valley County Health System&#39\;s annual Celebrate Being a Woman.&nbsp\;The event includes a meal\, gifts\, exhibits\, speakers\, raffle and door prizes. Last year&#39\;s event drew more than 300 women and 40 exhibitors!&nbsp\; The registration deadline is October 4th and space is limited. <span _fck_bookmark="1" style="display: none">&nbsp\;</span><br />\n<br />\n<span _fck_bookmark="1" style="display: none">The event includes a meal\, gifts\, exhibits\, speakers\, raffle and door prizes. Last year&#39\;s event drew more than 300 women and 40 exhibitors!The event includes a meal\, gifts\, exhibits\, speakers\, raffle and door prizes. Last year&#39\;s event drew more than 300 women and 40 exhibitors!<span _fck_bookmark="1" style="display: none">&nbsp\;</span>The event includes a meal\, gifts\, exhibits\, speakers\, raffle and door prizes. Last year&#39\;s event drew more than 300 women and 40 exhibitors!<span _fck_bookmark="1" style="display: none">&nbsp\;</span>&nbsp\;</span>
LOCATION:Ord Veteran's Club
UID:e.1165.649
SEQUENCE:3
DTSTAMP:20260423T085858Z
URL:https://chamber.ordnebraska.com/events/details/celebrate-being-a-woman-10-11-2011-649
END:VEVENT

END:VCALENDAR
