BEGIN:VCALENDAR
VERSION:2.0
PRODID:-//ChamberMaster//Event Calendar 2.0//EN
METHOD:PUBLISH
X-PUBLISHED-TTL:P3D
REFRESH-INTERVAL:P3D
CALSCALE:GREGORIAN
BEGIN:VEVENT
DTSTART;VALUE=DATE:20110822
DTEND;VALUE=DATE:20110823
TRANSP:TRANSPARENT
X-MICROSOFT-CDO-ALLDAYEVENT:TRUE
SUMMARY:CCC Fall Semester begins
DESCRIPTION:CCC Fall Semester begins
X-ALT-DESC;FMTTYPE=text/html:<p>\n	<span style="font-family: comic sans ms">CCC Fall Semester begins</span></p>\n
LOCATION:All CCC campuses
UID:e.1165.474
SEQUENCE:3
DTSTAMP:20260424T104819Z
URL:https://chamber.ordnebraska.com/events/details/ccc-fall-semester-begins-08-22-2011-474
END:VEVENT

END:VCALENDAR
