BEGIN:VCALENDAR
VERSION:2.0
PRODID:-//ChamberMaster//Event Calendar 2.0//EN
METHOD:PUBLISH
X-PUBLISHED-TTL:P3D
REFRESH-INTERVAL:P3D
CALSCALE:GREGORIAN
BEGIN:VEVENT
DTSTART:20260603T140000Z
DTEND:20260604T200000Z
X-MICROSOFT-CDO-ALLDAYEVENT:FALSE
SUMMARY:CCC Babysitter Bootcamp & CPR/First Aid Certification
DESCRIPTION:Central Community College-Ord\n\nBabysitting Bootcamp and CPR/First Aid Certification \n\nThis class covers CPR and a wide range of information to help babysitters gain the skills and confidence needed to care for infants and children!\n\nAges 11-15   Only 10 spots available per class\n\nRegister online by Wednesday\, May 14   $35 registration
X-ALT-DESC;FMTTYPE=text/html:<span style="font-size:18px\;"><strong>Central Community College-Ord<br />\nBabysitting Bootcamp and CPR/First Aid Certification&nbsp\;</strong><br />\nThis class covers CPR and a wide range of information to help babysitters gain the skills and confidence needed to care for infants and children!<br />\nAges 11-15 &middot\; Only 10 spots available per class<br />\nRegister online by Wednesday\, May 14 &middot\; $35 registration</span>
LOCATION:Central Community College Ord Center 1514 K Street Ord\, NE
UID:e.1165.12937
SEQUENCE:3
DTSTAMP:20260420T181725Z
URL:https://chamber.ordnebraska.com/events/details/ccc-babysitter-bootcamp-cpr-first-aid-certification-12937
END:VEVENT

END:VCALENDAR
