BEGIN:VCALENDAR
VERSION:2.0
PRODID:-//ChamberMaster//Event Calendar 2.0//EN
METHOD:PUBLISH
X-PUBLISHED-TTL:P3D
REFRESH-INTERVAL:P3D
CALSCALE:GREGORIAN
BEGIN:VEVENT
DTSTART:20110615T210000Z
DTEND:20110616T000000Z
X-MICROSOFT-CDO-ALLDAYEVENT:FALSE
SUMMARY:Business After Hours at Valley County Health System Foundation
DESCRIPTION:Join us for delicious refreshments and beverages at the Foundation office\, which is now located in the lower level of 400 South 23rd Street in Ord.
X-ALT-DESC;FMTTYPE=text/html:<span style="color: #008080"><strong><span style="font-family: comic sans ms">Join us for delicious refreshments and beverages at the Foundation office\, which is now located in the lower level of 400 South 23rd Street in Ord.&nbsp\; </span></strong></span>
LOCATION:
UID:e.1165.26
SEQUENCE:3
DTSTAMP:20260424T133641Z
URL:https://chamber.ordnebraska.com/events/details/business-after-hours-at-valley-county-health-system-foundation-06-15-2011-26
END:VEVENT

END:VCALENDAR
