BEGIN:VCALENDAR
VERSION:2.0
PRODID:-//ChamberMaster//Event Calendar 2.0//EN
METHOD:PUBLISH
X-PUBLISHED-TTL:P3D
REFRESH-INTERVAL:P3D
CALSCALE:GREGORIAN
BEGIN:VEVENT
DTSTART:20230618T010000Z
DTEND:20230618T040000Z
X-MICROSOFT-CDO-ALLDAYEVENT:FALSE
SUMMARY:BJ Jamison on the patio at Carl's Tavern
DESCRIPTION:Enjoy live music from BJ Jamison on the patio at Carl's Tavern on Saturday\, June 17\, 2023 from 8:00-11:00 PM.
X-ALT-DESC;FMTTYPE=text/html:Enjoy live music from BJ Jamison on the patio at Carl&#39\;s Tavern on Saturday\, June 17\, 2023 from 8:00-11:00 PM.&nbsp\;
LOCATION:Carl's Tavern 116 S 15th Street Ord\, NE
UID:e.1165.11331
SEQUENCE:3
DTSTAMP:20260422T100944Z
URL:https://chamber.ordnebraska.com/events/details/bj-jamison-on-the-patio-at-carl-s-tavern-11331
END:VEVENT

END:VCALENDAR
