BEGIN:VCALENDAR
VERSION:2.0
PRODID:-//ChamberMaster//Event Calendar 2.0//EN
METHOD:PUBLISH
X-PUBLISHED-TTL:P3D
REFRESH-INTERVAL:P3D
CALSCALE:GREGORIAN
BEGIN:VEVENT
DTSTART;VALUE=DATE:20110903
DTEND;VALUE=DATE:20110906
TRANSP:TRANSPARENT
X-MICROSOFT-CDO-ALLDAYEVENT:TRUE
SUMMARY:Arcadia Fall Festival
DESCRIPTION:Visit http://www.arcadiane.com/fallfestival.pdf to download a complete schedule of events.
X-ALT-DESC;FMTTYPE=text/html:Visit <a href="http://www.arcadiane.com/fallfestival.pdf">http://www.arcadiane.com/fallfestival.pdf</a>&nbsp\;to download a complete schedule of events. 
LOCATION:
UID:e.1165.16
SEQUENCE:3
DTSTAMP:20260423T100811Z
URL:https://chamber.ordnebraska.com/events/details/arcadia-fall-festival-09-03-2011-16
END:VEVENT

END:VCALENDAR
