BEGIN:VCALENDAR
VERSION:2.0
PRODID:-//ChamberMaster//Event Calendar 2.0//EN
METHOD:PUBLISH
X-PUBLISHED-TTL:P3D
REFRESH-INTERVAL:P3D
CALSCALE:GREGORIAN
BEGIN:VEVENT
DTSTART;VALUE=DATE:20130223
DTEND;VALUE=DATE:20130224
TRANSP:TRANSPARENT
X-MICROSOFT-CDO-ALLDAYEVENT:TRUE
SUMMARY:Annual Chamber/Economic Development Banquet
DESCRIPTION:Details will be coming soon!
X-ALT-DESC;FMTTYPE=text/html:<p>\n	Details will be coming soon!</p>\n
LOCATION:Ord Veteran's Club
UID:e.1165.1027
SEQUENCE:3
DTSTAMP:20260423T083932Z
URL:https://chamber.ordnebraska.com/events/details/annual-chamber-economic-development-banquet-02-23-2013-1027
END:VEVENT

END:VCALENDAR
