BEGIN:VCALENDAR
VERSION:2.0
PRODID:-//ChamberMaster//Event Calendar 2.0//EN
METHOD:PUBLISH
X-PUBLISHED-TTL:P3D
REFRESH-INTERVAL:P3D
CALSCALE:GREGORIAN
BEGIN:VEVENT
DTSTART:20110702T183000Z
DTEND:20110702T210000Z
X-MICROSOFT-CDO-ALLDAYEVENT:FALSE
SUMMARY:Alumni Open House
DESCRIPTION:The Alumni Open House will be held at the Valley County Museum in downtown Ord.
X-ALT-DESC;FMTTYPE=text/html:The Alumni Open House will be held at the Valley County Museum in downtown Ord.&nbsp\; 
LOCATION:Valley County Museum\, downtown Ord.
UID:e.1165.300
SEQUENCE:3
DTSTAMP:20260424T115721Z
URL:https://chamber.ordnebraska.com/events/details/alumni-open-house-07-02-2011-300
END:VEVENT

END:VCALENDAR
