BEGIN:VCALENDAR
VERSION:2.0
PRODID:-//ChamberMaster//Event Calendar 2.0//EN
METHOD:PUBLISH
X-PUBLISHED-TTL:P3D
REFRESH-INTERVAL:P3D
CALSCALE:GREGORIAN
BEGIN:VEVENT
DTSTART;VALUE=DATE:20110624
DTEND;VALUE=DATE:20110627
TRANSP:TRANSPARENT
X-MICROSOFT-CDO-ALLDAYEVENT:TRUE
SUMMARY:Alco Sidewalk Sales
DESCRIPTION:The local Alco Discount Store in Ord will be hosting a Sidewalk Sales event June 24-26.  Organizations and businesses are invited to set up booths including everything from bake sales to car washes.  Businesses can also set up a booth to sell or promote their products and services.   \n\n	\n\n	For more information\, contact manager Mike Fahey at (308) 728-5402 for more information.
X-ALT-DESC;FMTTYPE=text/html:<p>\n	The local Alco Discount Store in Ord&nbsp\;will be&nbsp\;hosting a Sidewalk Sales event June 24-26.&nbsp\; Organizations and businesses are invited to set up booths including everything from bake sales to car washes.&nbsp\; Businesses can also set up a booth&nbsp\;to&nbsp\;sell or promote their products and services.&nbsp\; &nbsp\;<br />\n	<br />\n	For more information\, contact manager Mike Fahey at (308) 728-5402 for more information.</p>\n
LOCATION:East Hwy 11 - Ord\, NE
UID:e.1165.37
SEQUENCE:3
DTSTAMP:20260424T132605Z
URL:https://chamber.ordnebraska.com/events/details/alco-sidewalk-sales-06-24-2011-37
END:VEVENT

END:VCALENDAR
