BEGIN:VCALENDAR
VERSION:2.0
PRODID:-//ChamberMaster//Event Calendar 2.0//EN
METHOD:PUBLISH
X-PUBLISHED-TTL:P3D
REFRESH-INTERVAL:P3D
CALSCALE:GREGORIAN
BEGIN:VEVENT
DTSTART:20121214T010000Z
DTEND:20121214T013000Z
X-MICROSOFT-CDO-ALLDAYEVENT:FALSE
SUMMARY:4th Holiday Scavenger Hunt Drawing
DESCRIPTION:Win $500 in Ord Area ChamberBucks just for shopping locally this holiday season!\n\n	\n\n	Complete details for the Holiday Scavenger Hunt can be found here.\n\n	\n\n	Descriptions for the 4th set of products for the fourth drawing will be posted soon.
X-ALT-DESC;FMTTYPE=text/html:<p>\n	<br />\n	<span style="font-size: 14px">Win <strong>$500 in Ord Area ChamberBucks </strong>just for shopping locally this holiday season!<br />\n	<br />\n	Complete details for the Holiday Scavenger Hunt can be found <a href="http://www.ordnebraska.com/wp-content/uploads/2012/11/Holiday-Scavenger-Hunt-Info-for-Customers2.pdf">here</a>.<br />\n	<br />\n	Descriptions for the&nbsp\;4th set of products&nbsp\;for the&nbsp\;fourth drawing&nbsp\;will be posted soon.</span><br />\n	&nbsp\;</p>\n
LOCATION:Ord Senior Center
UID:e.1165.1186
SEQUENCE:3
DTSTAMP:20260422T084335Z
URL:https://chamber.ordnebraska.com/events/details/4th-holiday-scavenger-hunt-drawing-12-13-2012-1186
END:VEVENT

END:VCALENDAR
