BEGIN:VCALENDAR
VERSION:2.0
PRODID:-//ChamberMaster//Event Calendar 2.0//EN
METHOD:PUBLISH
X-PUBLISHED-TTL:P3D
REFRESH-INTERVAL:P3D
CALSCALE:GREGORIAN
BEGIN:VEVENT
DTSTART;VALUE=DATE:20110702
DTEND;VALUE=DATE:20110703
TRANSP:TRANSPARENT
X-MICROSOFT-CDO-ALLDAYEVENT:TRUE
SUMMARY:32nd Annual Ord Country Run
DESCRIPTION:Break out your running shoes! The 32nd Annual Dan Klimek\, Sr. Ord Country Run will be Saturday\, July 2\, 2011. The race will begin at Bussell Park with the 10K walkers beginning at 7:00 am\, the kids 1 mile at 7:30 am and the 10K and 3 mile run at 7:45 am. Registration forms can be picked up at the Ord Area Chamber office and Misko's Sports. You can download more information and a registration form at \n\nhttp://www.ordnebraska.com/wp-content/uploads/2011/06/2011-Ord-Country-Run.pdf
X-ALT-DESC;FMTTYPE=text/html:<span style="font-size: 11px"><span style="font-family: arial"><span style="color: black">Break out your running shoes! The 32nd Annual Dan Klimek\, Sr. Ord Country Run will be Saturday\, July 2\, 2011. The race will begin at Bussell Park with the 10K walkers beginning at 7:00 am\, the kids 1 mile at 7:30 am and the 10K and 3 mile run at 7:45 am. Registration forms can be picked up at the Ord Area Chamber office and Misko&rsquo\;s Sports. You can download more information and a registration form at </span></span></span><br />\n<font color="#000000"><a href="http://www.ordnebraska.com/wp-content/uploads/2011/06/2011-Ord-Country-Run.pdf">http://www.ordnebraska.com/wp-content/uploads/2011/06/2011-Ord-Country-Run.pdf</a><span _fck_bookmark="1" style="display: none">&nbsp\;</span></font>
LOCATION:Bussell Park\, Ord NE
UID:e.1165.41
SEQUENCE:3
DTSTAMP:20260424T115932Z
URL:https://chamber.ordnebraska.com/events/details/32nd-annual-ord-country-run-07-02-2011-41
END:VEVENT

END:VCALENDAR
